BEGIN:VCALENDAR
VERSION:2.0
PRODID:-//RIGHTHERE//CALENDARIZE IT V3.2//EN
BEGIN:VEVENT
UID:516-events@bcrma.com
DTSTART:20230912T080000Z
DTEND:20230915T120000Z
DTSTAMP:20230612T205245Z
SUMMARY:Precious Metals Summit
URL:https://bcrma.com/events/precious-metals-summit-2/
END:VEVENT
END:VCALENDAR